BEGIN:VCALENDAR
VERSION:2.0
METHOD:PUBLISH
BEGIN:VEVENT
DTSTART:20180607T140000Z
DTEND:20180608T135900Z
LOCATION:
TRANSP: OPAQUE
SEQUENCE:0
UID:
DTSTAMP:20190227T150305Z
SUMMARY:MPG Student Symposium 2018 - Abstract Deadline
DESCRIPTION:
PRIORITY:1
CLASS:PUBLIC
BEGIN:VALARM
TRIGGER:-PT10080M
ACTION:DISPLAY
DESCRIPTION:Reminder
END:VALARM
END:VEVENT
END:VCALENDAR
