BEGIN:VCALENDAR
VERSION:2.0
METHOD:PUBLISH
BEGIN:VEVENT
DTSTART:20180711T220000Z
DTEND:20180712T080000Z
LOCATION:South One Lecture Theatre, Monash University, Clayton 
TRANSP: OPAQUE
SEQUENCE:0
UID:
DTSTAMP:20190227T150308Z
SUMMARY:17th MPG Student Symposium
DESCRIPTION:
PRIORITY:1
CLASS:PUBLIC
BEGIN:VALARM
TRIGGER:-PT10080M
ACTION:DISPLAY
DESCRIPTION:Reminder
END:VALARM
END:VEVENT
END:VCALENDAR
